BEGIN:VCALENDAR
VERSION:2.0
PRODID:-//Squarespace Inc/Squarespace 6//v6//EN
BEGIN:VEVENT
UID:5d631ed354372300016dd91f@squarespace.com
DTSTAMP:20190908T232442Z
DTSTART:20190906T053000Z
DTEND:20190906T073000Z
SUMMARY:Term 3 Week 7
END:VEVENT
END:VCALENDAR
