BEGIN:VCALENDAR
VERSION:2.0
PRODID:-//Squarespace Inc/Squarespace 6//v6//EN
BEGIN:VEVENT
UID:5d758dee61770c1847f54ee1@squarespace.com
DTSTAMP:20191003T004215Z
DTSTART:20190920T053000Z
DTEND:20190920T073000Z
SUMMARY:Term 3 Week 9
END:VEVENT
END:VCALENDAR
