BEGIN:VCALENDAR
VERSION:2.0
PRODID:-//Squarespace Inc/Squarespace 6//v6//EN
BEGIN:VEVENT
UID:5d758dc4e9cdb53aa9605815@squarespace.com
DTSTAMP:20191003T004204Z
DTSTART:20190913T053000Z
DTEND:20190913T073000Z
SUMMARY:Term 3 Week 8
END:VEVENT
END:VCALENDAR
