BEGIN:VCALENDAR
VERSION:2.0
PRODID:-//Squarespace Inc/Squarespace 6//v6//EN
BEGIN:VEVENT
UID:5d631eaf85843d00012663ea@squarespace.com
DTSTAMP:20190908T232435Z
DTSTART:20190830T053000Z
DTEND:20190830T073000Z
SUMMARY:Term 3 Week 6
END:VEVENT
END:VCALENDAR
