BEGIN:VCALENDAR
VERSION:2.0
PRODID:-//Squarespace Inc/Squarespace 6//v6//EN
BEGIN:VEVENT
UID:5d631e7243bb1d0001c21c17@squarespace.com
DTSTAMP:20190825T234945Z
DTSTART:20190823T053000Z
DTEND:20190823T073000Z
SUMMARY:Term 3 Week 5
END:VEVENT
END:VCALENDAR
