BEGIN:VCALENDAR
VERSION:2.0
PRODID:-//Squarespace Inc/Squarespace 6//v6//EN
BEGIN:VEVENT
UID:5d3e322517b49100017b10d1@squarespace.com
DTSTAMP:20190825T234958Z
DTSTART:20190816T053000Z
DTEND:20190816T073000Z
SUMMARY:term 3 week 4
END:VEVENT
END:VCALENDAR
