BEGIN:VCALENDAR
VERSION:2.0
PRODID:-//Squarespace Inc/Squarespace 6//v6//EN
BEGIN:VEVENT
UID:5d3e31d2a6cf2d0001925fe2@squarespace.com
DTSTAMP:20190728T233905Z
DTSTART:20190726T053000Z
DTEND:20190726T073000Z
SUMMARY:Chinese Class term 3 Week 1
END:VEVENT
END:VCALENDAR
