BEGIN:VCALENDAR
VERSION:2.0
PRODID:-//Squarespace Inc/Squarespace 6//v6//EN
BEGIN:VEVENT
UID:5cef13d22254310001f0b4b6@squarespace.com
DTSTAMP:20190624T232610Z
DTSTART:20190607T053000Z
DTEND:20190607T073000Z
SUMMARY:Chinese Class Week 6
END:VEVENT
END:VCALENDAR
