BEGIN:VCALENDAR
VERSION:2.0
PRODID:-//Squarespace Inc/Squarespace 6//v6//EN
BEGIN:VEVENT
UID:5d115bbf00fdb40001f9cf75@squarespace.com
DTSTAMP:20190825T234849Z
DTSTART:20190628T053000Z
DTEND:20190628T073000Z
SUMMARY:Chinese Class Week 9
END:VEVENT
END:VCALENDAR
