BEGIN:VCALENDAR
VERSION:2.0
PRODID:-//Squarespace Inc/Squarespace 6//v6//EN
BEGIN:VEVENT
UID:5d115bdc4a261b0001f8b74f@squarespace.com
DTSTAMP:20190825T234856Z
DTSTART:20190625T053000Z
DTEND:20190625T073000Z
SUMMARY:Chinese Class Week 10
END:VEVENT
END:VCALENDAR
