BEGIN:VCALENDAR
VERSION:2.0
PRODID:-//Squarespace Inc/Squarespace 6//v6//EN
BEGIN:VEVENT
UID:5d115b816fa2280001ff70cd@squarespace.com
DTSTAMP:20190624T232431Z
DTSTART:20190621T053000Z
DTEND:20190621T073000Z
SUMMARY:Chinese Class Week 8
END:VEVENT
END:VCALENDAR
