BEGIN:VCALENDAR
VERSION:2.0
PRODID:-//Squarespace Inc/Squarespace 6//v6//EN
BEGIN:VEVENT
UID:5cf71682095f4e0001dc6a84@squarespace.com
DTSTAMP:20190624T232601Z
DTSTART:20190614T053000Z
DTEND:20190614T073000Z
SUMMARY:Chinese Class Week 7
END:VEVENT
END:VCALENDAR
