BEGIN:VCALENDAR
VERSION:2.0
PRODID:-//Squarespace Inc/Squarespace 6//v6//EN
BEGIN:VEVENT
UID:5cef13ab8aabe30001291c93@squarespace.com
DTSTAMP:20190605T011100Z
DTSTART:20190531T053000Z
DTEND:20190531T073000Z
SUMMARY:Chinese Class Week 5
END:VEVENT
END:VCALENDAR
