BEGIN:VCALENDAR
VERSION:2.0
PRODID:-//Squarespace Inc/Squarespace 6//v6//EN
BEGIN:VEVENT
UID:5cbe8a2d4785d3212d861e08@squarespace.com
DTSTAMP:20190514T013554Z
DTSTART:20190502T054500Z
DTEND:20190502T074500Z
SUMMARY:Thursdays' Class week 1
END:VEVENT
END:VCALENDAR
