BEGIN:VCALENDAR
VERSION:2.0
PRODID:-//Squarespace Inc/Squarespace 6//v6//EN
BEGIN:VEVENT
UID:5cda1b417817f7a375a173cc@squarespace.com
DTSTAMP:20190529T232127Z
DTSTART:20190524T054500Z
DTEND:20190524T074500Z
SUMMARY:Chinese Class Week 4
END:VEVENT
END:VCALENDAR
