BEGIN:VCALENDAR
VERSION:2.0
PRODID:-//Squarespace Inc/Squarespace 6//v6//EN
BEGIN:VEVENT
UID:5cda1b23e4966bc00032a0c2@squarespace.com
DTSTAMP:20190529T232137Z
DTSTART:20190517T054500Z
DTEND:20190517T074500Z
SUMMARY:Chinese Class Week 3
END:VEVENT
END:VCALENDAR
