BEGIN:VCALENDAR
VERSION:2.0
PRODID:-//Squarespace Inc/Squarespace 6//v6//EN
BEGIN:VEVENT
UID:5cda1af4652dea216f8d9f06@squarespace.com
DTSTAMP:20190514T013416Z
DTSTART:20190510T054500Z
DTEND:20190510T074500Z
SUMMARY:Chinese Class Week 2
END:VEVENT
END:VCALENDAR
