BEGIN:VCALENDAR
VERSION:2.0
PRODID:-//Squarespace Inc/Squarespace 6//v6//EN
BEGIN:VEVENT
UID:5cbe8b0c0852293126280653@squarespace.com
DTSTAMP:20190514T013540Z
DTSTART:20190503T054500Z
DTEND:20190503T074500Z
SUMMARY:Fridays' Class Week 1
END:VEVENT
END:VCALENDAR
