BEGIN:VCALENDAR
VERSION:2.0
PRODID:-//Squarespace Inc/Squarespace 6//v6//EN
BEGIN:VEVENT
UID:5c1830eb1ae6cf2be3ecffa4@squarespace.com
DTSTAMP:20190210T225423Z
DTSTART:20190207T044500Z
DTEND:20190207T064500Z
SUMMARY:Intermediate Class for Children
END:VEVENT
END:VCALENDAR
