BEGIN:VCALENDAR
VERSION:2.0
PRODID:-//Squarespace Inc/Squarespace 6//v6//EN
BEGIN:VEVENT
UID:5c1830bc70a6ad499bd0bf6d@squarespace.com
DTSTAMP:20190210T225431Z
DTSTART:20190207T044500Z
DTEND:20190207T064500Z
SUMMARY:Beginner Class for Children
END:VEVENT
END:VCALENDAR
