BEGIN:VCALENDAR
VERSION:2.0
PRODID:-//Squarespace Inc/Squarespace 6//v6//EN
BEGIN:VEVENT
UID:5deb27421704ea1920f655bd@squarespace.com
DTSTAMP:20191207T041532Z
DTSTART:20191122T043000Z
DTEND:20191122T063000Z
SUMMARY:Term 4 week 6
END:VEVENT
END:VCALENDAR
