BEGIN:VCALENDAR
VERSION:2.0
PRODID:-//Squarespace Inc/Squarespace 6//v6//EN
BEGIN:VEVENT
UID:5deb279005aa792cf376a431@squarespace.com
DTSTAMP:20191207T041636Z
DTSTART:20191206T043000Z
DTEND:20191206T063000Z
SUMMARY:Term 4 Week 8
END:VEVENT
END:VCALENDAR
