BEGIN:VCALENDAR
VERSION:2.0
PRODID:-//Squarespace Inc/Squarespace 6//v6//EN
BEGIN:VEVENT
UID:5deb27c74d5f2571c8af7ec8@squarespace.com
DTSTAMP:20191207T041722Z
DTSTART:20191220T043000Z
DTEND:20191220T063000Z
SUMMARY:Term 4 Week 10
END:VEVENT
END:VCALENDAR
