BEGIN:VCALENDAR
VERSION:2.0
PRODID:-//Squarespace Inc/Squarespace 6//v6//EN
BEGIN:VEVENT
UID:5deb27aeac43c868ac0cd888@squarespace.com
DTSTAMP:20191207T041702Z
DTSTART:20191213T043000Z
DTEND:20191213T063000Z
SUMMARY:Term 4 Week 9
END:VEVENT
END:VCALENDAR
