BEGIN:VCALENDAR
VERSION:2.0
PRODID:-//Squarespace Inc/Squarespace 6//v6//EN
BEGIN:VEVENT
UID:5dc3ceb1b1ca8047efd08b50@squarespace.com
DTSTAMP:20191107T075949Z
DTSTART:20191108T043000Z
DTEND:20191108T063000Z
SUMMARY:Term 4 Week 4
END:VEVENT
END:VCALENDAR
