BEGIN:VCALENDAR
VERSION:2.0
PRODID:-//Squarespace Inc/Squarespace 6//v6//EN
BEGIN:VEVENT
UID:5deb276d5e5ce97f94bbe9d1@squarespace.com
DTSTAMP:20191207T041605Z
DTSTART:20191129T043000Z
DTEND:20191129T063000Z
SUMMARY:Term 4 Week 7
END:VEVENT
END:VCALENDAR
