BEGIN:VCALENDAR
VERSION:2.0
PRODID:-//Squarespace Inc/Squarespace 6//v6//EN
BEGIN:VEVENT
UID:5dc3ceff6b63dd51c91ed7e3@squarespace.com
DTSTAMP:20191107T080022Z
DTSTART:20191115T043000Z
DTEND:20191115T063000Z
SUMMARY:Term 4 Week 5
END:VEVENT
END:VCALENDAR
