BEGIN:VCALENDAR
VERSION:2.0
PRODID:-//Squarespace Inc/Squarespace 6//v6//EN
BEGIN:VEVENT
UID:5dae35b06fdacc595afa08f2@squarespace.com
DTSTAMP:20191107T075817Z
DTSTART:20191101T043000Z
DTEND:20191101T063000Z
SUMMARY:Term 4 week 3
END:VEVENT
END:VCALENDAR
