BEGIN:VCALENDAR
VERSION:2.0
PRODID:-//Squarespace Inc/Squarespace 6//v6//EN
BEGIN:VEVENT
UID:5d9544322219ce5427528d69@squarespace.com
DTSTAMP:20191107T075751Z
DTSTART:20191025T043000Z
DTEND:20191025T063000Z
SUMMARY:Term 4 Week 2
END:VEVENT
END:VCALENDAR
