BEGIN:VCALENDAR
VERSION:2.0
PRODID:-//Squarespace Inc/Squarespace 6//v6//EN
BEGIN:VEVENT
UID:5d9543f084c55443c92e17b7@squarespace.com
DTSTAMP:20191021T224808Z
DTSTART:20191018T043000Z
DTEND:20191018T063000Z
SUMMARY:Term 4 Week 1
END:VEVENT
END:VCALENDAR
